BEGIN:VCALENDAR
VERSION:2.0
PRODID:-//Lake Harriet UMC - ECPv6.15.17.1//NONSGML v1.0//EN
CALSCALE:GREGORIAN
METHOD:PUBLISH
X-WR-CALNAME:Lake Harriet UMC
X-ORIGINAL-URL:https://lakeharrietumc.org
X-WR-CALDESC:Events for Lake Harriet UMC
REFRESH-INTERVAL;VALUE=DURATION:PT1H
X-Robots-Tag:noindex
X-PUBLISHED-TTL:PT1H
BEGIN:VTIMEZONE
TZID:America/Chicago
BEGIN:DAYLIGHT
TZOFFSETFROM:-0600
TZOFFSETTO:-0500
TZNAME:CDT
DTSTART:20230312T080000
END:DAYLIGHT
BEGIN:STANDARD
TZOFFSETFROM:-0500
TZOFFSETTO:-0600
TZNAME:CST
DTSTART:20231105T070000
END:STANDARD
BEGIN:DAYLIGHT
TZOFFSETFROM:-0600
TZOFFSETTO:-0500
TZNAME:CDT
DTSTART:20240310T080000
END:DAYLIGHT
BEGIN:STANDARD
TZOFFSETFROM:-0500
TZOFFSETTO:-0600
TZNAME:CST
DTSTART:20241103T070000
END:STANDARD
BEGIN:DAYLIGHT
TZOFFSETFROM:-0600
TZOFFSETTO:-0500
TZNAME:CDT
DTSTART:20250309T080000
END:DAYLIGHT
BEGIN:STANDARD
TZOFFSETFROM:-0500
TZOFFSETTO:-0600
TZNAME:CST
DTSTART:20251102T070000
END:STANDARD
END:VTIMEZONE
BEGIN:VEVENT
DTSTART;TZID=America/Chicago:20240413T083000
DTEND;TZID=America/Chicago:20240413T153000
DTSTAMP:20260419T090157
CREATED:20240227T185931Z
LAST-MODIFIED:20240304T181536Z
UID:2357-1712997000-1713022200@lakeharrietumc.org
SUMMARY:My Changing Self - CYF
DESCRIPTION:Grades 3 through 8 can join us for the My Changing Self retreat! This one day retreat will explore our sexuality and identity within our spirituality. It will run from 8:30am-3:30pm at Lake Harriet UMC with a parent session from 8:30-10:30am. \nCost is $20/student with a family cap of $30. \nContact Ariel Johnson for more information\, ariel.johnson@lakeharrietumc.org
URL:https://lakeharrietumc.org/calendar/my-changing-self/
LOCATION:Lake Harriet United Methodist Church\, 4901 Chowen Ave S.\, Minneapolis\, MN\, 55410\, United States
CATEGORIES:CYF Ministries,front page
ATTACH;FMTTYPE=image/jpeg:https://lakeharrietumc.org/wp-content/uploads/2024/02/LH-MailChimp_MYCHANGINGSELF.jpg
ORGANIZER;CN="Lake Harriet UMC":MAILTO:Church@LakeHarrietUMC.org
END:VEVENT
END:VCALENDAR