BEGIN:VCALENDAR
VERSION:2.0
PRODID:-//Lake Harriet UMC - ECPv6.15.17.1//NONSGML v1.0//EN
CALSCALE:GREGORIAN
METHOD:PUBLISH
X-WR-CALNAME:Lake Harriet UMC
X-ORIGINAL-URL:https://lakeharrietumc.org
X-WR-CALDESC:Events for Lake Harriet UMC
REFRESH-INTERVAL;VALUE=DURATION:PT1H
X-Robots-Tag:noindex
X-PUBLISHED-TTL:PT1H
BEGIN:VTIMEZONE
TZID:America/Chicago
BEGIN:DAYLIGHT
TZOFFSETFROM:-0600
TZOFFSETTO:-0500
TZNAME:CDT
DTSTART:20250309T080000
END:DAYLIGHT
BEGIN:STANDARD
TZOFFSETFROM:-0500
TZOFFSETTO:-0600
TZNAME:CST
DTSTART:20251102T070000
END:STANDARD
BEGIN:DAYLIGHT
TZOFFSETFROM:-0600
TZOFFSETTO:-0500
TZNAME:CDT
DTSTART:20260308T080000
END:DAYLIGHT
BEGIN:STANDARD
TZOFFSETFROM:-0500
TZOFFSETTO:-0600
TZNAME:CST
DTSTART:20261101T070000
END:STANDARD
BEGIN:DAYLIGHT
TZOFFSETFROM:-0600
TZOFFSETTO:-0500
TZNAME:CDT
DTSTART:20270314T080000
END:DAYLIGHT
BEGIN:STANDARD
TZOFFSETFROM:-0500
TZOFFSETTO:-0600
TZNAME:CST
DTSTART:20271107T070000
END:STANDARD
END:VTIMEZONE
BEGIN:VEVENT
DTSTART;TZID=America/Chicago:20260430T180000
DTEND;TZID=America/Chicago:20260430T200000
DTSTAMP:20260419T202735
CREATED:20260416T133954Z
LAST-MODIFIED:20260416T133954Z
UID:10002283-1777572000-1777579200@lakeharrietumc.org
SUMMARY:ArtCamp for Grownups
DESCRIPTION:…who Don’t Need to Learn a Thing or 2– Come Create & Connect\nYou’re invited to Adult Art Camp—a relaxed\, welcoming space for creativity\, connection\, and a little bit of play. This isn’t a class\, and there’s nothing you need to learn or perfect. It’s simply time set aside to gather with others\, unwind\, and make art together.We are excited to welcome Kristin Camp\, a local artist\, who will lead us in a weekly activity. \nWhether you’re a seasoned artist or someone who hasn’t picked up a paintbrush in years\, you belong here. Come as you are\, create what you want\, and enjoy the process. \nJoin us for all four sessions or drop in for the ones that fit your schedule—no pressure\, just possibility. \nCome for the creativity.\nStay for the connection.\nLeave refreshed. \nWe’d love to create alongside you. We will meet on Thursday evenings April 30\, May 7\, 14\, and 21 from 6-8pm at Lake Harriet UMC. Please sign up if you are able\, it helps with making sure we have enough supplies! However\, you are welcome to come even if you didn’t sign up.
URL:https://lakeharrietumc.org/calendar/artcamp-for-grownups/2026-04-30/
LOCATION:Lake Harriet United Methodist Church\, 4901 Chowen Ave S.\, Minneapolis\, MN\, 55410\, United States
CATEGORIES:Community
ATTACH;FMTTYPE=image/jpeg:https://lakeharrietumc.org/wp-content/uploads/2026/04/LH-MailChimp_artccamp.jpg
ORGANIZER;CN="Lake Harriet UMC":MAILTO:Church@LakeHarrietUMC.org
END:VEVENT
BEGIN:VEVENT
DTSTART;TZID=America/Chicago:20260507T180000
DTEND;TZID=America/Chicago:20260507T200000
DTSTAMP:20260419T202736
CREATED:20260416T133954Z
LAST-MODIFIED:20260416T133954Z
UID:10002284-1778176800-1778184000@lakeharrietumc.org
SUMMARY:ArtCamp for Grownups
DESCRIPTION:…who Don’t Need to Learn a Thing or 2– Come Create & Connect\nYou’re invited to Adult Art Camp—a relaxed\, welcoming space for creativity\, connection\, and a little bit of play. This isn’t a class\, and there’s nothing you need to learn or perfect. It’s simply time set aside to gather with others\, unwind\, and make art together.We are excited to welcome Kristin Camp\, a local artist\, who will lead us in a weekly activity. \nWhether you’re a seasoned artist or someone who hasn’t picked up a paintbrush in years\, you belong here. Come as you are\, create what you want\, and enjoy the process. \nJoin us for all four sessions or drop in for the ones that fit your schedule—no pressure\, just possibility. \nCome for the creativity.\nStay for the connection.\nLeave refreshed. \nWe’d love to create alongside you. We will meet on Thursday evenings April 30\, May 7\, 14\, and 21 from 6-8pm at Lake Harriet UMC. Please sign up if you are able\, it helps with making sure we have enough supplies! However\, you are welcome to come even if you didn’t sign up.
URL:https://lakeharrietumc.org/calendar/artcamp-for-grownups/2026-05-07/
LOCATION:Lake Harriet United Methodist Church\, 4901 Chowen Ave S.\, Minneapolis\, MN\, 55410\, United States
CATEGORIES:Community
ATTACH;FMTTYPE=image/jpeg:https://lakeharrietumc.org/wp-content/uploads/2026/04/LH-MailChimp_artccamp.jpg
ORGANIZER;CN="Lake Harriet UMC":MAILTO:Church@LakeHarrietUMC.org
END:VEVENT
BEGIN:VEVENT
DTSTART;TZID=America/Chicago:20260514T180000
DTEND;TZID=America/Chicago:20260514T200000
DTSTAMP:20260419T202736
CREATED:20260416T133954Z
LAST-MODIFIED:20260416T133954Z
UID:10002285-1778781600-1778788800@lakeharrietumc.org
SUMMARY:ArtCamp for Grownups
DESCRIPTION:…who Don’t Need to Learn a Thing or 2– Come Create & Connect\nYou’re invited to Adult Art Camp—a relaxed\, welcoming space for creativity\, connection\, and a little bit of play. This isn’t a class\, and there’s nothing you need to learn or perfect. It’s simply time set aside to gather with others\, unwind\, and make art together.We are excited to welcome Kristin Camp\, a local artist\, who will lead us in a weekly activity. \nWhether you’re a seasoned artist or someone who hasn’t picked up a paintbrush in years\, you belong here. Come as you are\, create what you want\, and enjoy the process. \nJoin us for all four sessions or drop in for the ones that fit your schedule—no pressure\, just possibility. \nCome for the creativity.\nStay for the connection.\nLeave refreshed. \nWe’d love to create alongside you. We will meet on Thursday evenings April 30\, May 7\, 14\, and 21 from 6-8pm at Lake Harriet UMC. Please sign up if you are able\, it helps with making sure we have enough supplies! However\, you are welcome to come even if you didn’t sign up.
URL:https://lakeharrietumc.org/calendar/artcamp-for-grownups/2026-05-14/
LOCATION:Lake Harriet United Methodist Church\, 4901 Chowen Ave S.\, Minneapolis\, MN\, 55410\, United States
CATEGORIES:Community
ATTACH;FMTTYPE=image/jpeg:https://lakeharrietumc.org/wp-content/uploads/2026/04/LH-MailChimp_artccamp.jpg
ORGANIZER;CN="Lake Harriet UMC":MAILTO:Church@LakeHarrietUMC.org
END:VEVENT
BEGIN:VEVENT
DTSTART;TZID=America/Chicago:20260521T180000
DTEND;TZID=America/Chicago:20260521T200000
DTSTAMP:20260419T202736
CREATED:20260416T133954Z
LAST-MODIFIED:20260416T133954Z
UID:10002286-1779386400-1779393600@lakeharrietumc.org
SUMMARY:ArtCamp for Grownups
DESCRIPTION:…who Don’t Need to Learn a Thing or 2– Come Create & Connect\nYou’re invited to Adult Art Camp—a relaxed\, welcoming space for creativity\, connection\, and a little bit of play. This isn’t a class\, and there’s nothing you need to learn or perfect. It’s simply time set aside to gather with others\, unwind\, and make art together.We are excited to welcome Kristin Camp\, a local artist\, who will lead us in a weekly activity. \nWhether you’re a seasoned artist or someone who hasn’t picked up a paintbrush in years\, you belong here. Come as you are\, create what you want\, and enjoy the process. \nJoin us for all four sessions or drop in for the ones that fit your schedule—no pressure\, just possibility. \nCome for the creativity.\nStay for the connection.\nLeave refreshed. \nWe’d love to create alongside you. We will meet on Thursday evenings April 30\, May 7\, 14\, and 21 from 6-8pm at Lake Harriet UMC. Please sign up if you are able\, it helps with making sure we have enough supplies! However\, you are welcome to come even if you didn’t sign up.
URL:https://lakeharrietumc.org/calendar/artcamp-for-grownups/2026-05-21/
LOCATION:Lake Harriet United Methodist Church\, 4901 Chowen Ave S.\, Minneapolis\, MN\, 55410\, United States
CATEGORIES:Community
ATTACH;FMTTYPE=image/jpeg:https://lakeharrietumc.org/wp-content/uploads/2026/04/LH-MailChimp_artccamp.jpg
ORGANIZER;CN="Lake Harriet UMC":MAILTO:Church@LakeHarrietUMC.org
END:VEVENT
END:VCALENDAR