BEGIN:VCALENDAR
VERSION:2.0
PRODID:-//Lake Harriet UMC - ECPv6.15.17.1//NONSGML v1.0//EN
CALSCALE:GREGORIAN
METHOD:PUBLISH
X-WR-CALNAME:Lake Harriet UMC
X-ORIGINAL-URL:https://lakeharrietumc.org
X-WR-CALDESC:Events for Lake Harriet UMC
REFRESH-INTERVAL;VALUE=DURATION:PT1H
X-Robots-Tag:noindex
X-PUBLISHED-TTL:PT1H
BEGIN:VTIMEZONE
TZID:America/Chicago
BEGIN:DAYLIGHT
TZOFFSETFROM:-0600
TZOFFSETTO:-0500
TZNAME:CDT
DTSTART:20240310T080000
END:DAYLIGHT
BEGIN:STANDARD
TZOFFSETFROM:-0500
TZOFFSETTO:-0600
TZNAME:CST
DTSTART:20241103T070000
END:STANDARD
BEGIN:DAYLIGHT
TZOFFSETFROM:-0600
TZOFFSETTO:-0500
TZNAME:CDT
DTSTART:20250309T080000
END:DAYLIGHT
BEGIN:STANDARD
TZOFFSETFROM:-0500
TZOFFSETTO:-0600
TZNAME:CST
DTSTART:20251102T070000
END:STANDARD
BEGIN:DAYLIGHT
TZOFFSETFROM:-0600
TZOFFSETTO:-0500
TZNAME:CDT
DTSTART:20260308T080000
END:DAYLIGHT
BEGIN:STANDARD
TZOFFSETFROM:-0500
TZOFFSETTO:-0600
TZNAME:CST
DTSTART:20261101T070000
END:STANDARD
END:VTIMEZONE
BEGIN:VEVENT
DTSTART;TZID=America/Chicago:20250206T190000
DTEND;TZID=America/Chicago:20250206T210000
DTSTAMP:20260419T090025
CREATED:20241224T164848Z
LAST-MODIFIED:20241224T164848Z
UID:6080-1738868400-1738875600@lakeharrietumc.org
SUMMARY:United Women in Faith Book Club
DESCRIPTION:Please join us to discuss our upcoming book\, State of Wonder by Ann Patchett. \n\nYou do not have to be a Lake Harriet UMC UWF member to join us\, you can even come if you haven’t read the books!\n\nTo join and receive email updates\, please register online\,\n\n\nor contact Julie Konrardy at juliekonrardy@gmail.com for email updates.\nWe meet by Zoom Nov-April\, and in-person\, May-October.\nOur upcoming books: \n\n\nMar 6 The Small and the Mighty: 12 Unsung Americans who changed the course of history by Sharon McMahon\n\n\nApril 3 The Only Woman in the Room by Marie Benedict\n\n\nMay 1 The Girl Who Wrote in Silk by Kelli Estes\n\n\nJune 5 Dear Jacob by Patty Wetterling\n\n\nJuly 3  James by Percival Everett\n\n\nAug 7  While You Were Out by Meg Kissinger\n\n\nSept 4 Tom Lake by Ann Patchett
URL:https://lakeharrietumc.org/calendar/united-women-in-faith-book-club/
LOCATION:Lake Harriet United Methodist Church\, 4901 Chowen Ave S.\, Minneapolis\, MN\, 55410\, United States
CATEGORIES:Groups
ATTACH;FMTTYPE=image/jpeg:https://lakeharrietumc.org/wp-content/uploads/2024/03/LH-MailChimp_UWFbookclub.jpg
ORGANIZER;CN="Lake Harriet UMC":MAILTO:Church@LakeHarrietUMC.org
END:VEVENT
END:VCALENDAR